BEGIN:VCALENDAR
VERSION:2.0
PRODID:concerti//https://www.concerti.de
CALSCALE:GREGORIAN
BEGIN:VTIMEZONE
TZID:Europe/Berlin
X-LIC-LOCATION:Europe/Berlin
BEGIN:DAYLIGHT
TZOFFSETFROM:+0100
TZOFFSETTO:+0200
TZNAME:CEST
DTSTART:19700329T020000
RRULE:FREQ=YEARLY;BYMONTH=3;BYDAY=-1SU
END:DAYLIGHT
BEGIN:STANDARD
TZOFFSETFROM:+0200
TZOFFSETTO:+0100
TZNAME:CET
DTSTART:19701025T030000
RRULE:FREQ=YEARLY;BYMONTH=10;BYDAY=-1SU
END:STANDARD
END:VTIMEZONE
BEGIN:VEVENT
UID:6313a185eb606643c8a8e4dd4a1ac62c
SUMMARY:The Art of Female Power: Erszebet Báthory – Countess Dracula?
URL:https://www.concerti.de/termine/the-art-of-female-power-erszebet-bathory-countess-dracula-villa-elisabeth-895605/
DTSTART;TZID=Europe/Berlin:20260628T200000
DTEND;TZID=Europe/Berlin:20260628T220000
DESCRIPTION:Interpreten: Capella de la Torre \nhttps://www.concerti.de/termine/the-art-of-female-power-erszebet-bathory-countess-dracula-villa-elisabeth-895605/
LOCATION:Villa Elisabeth Berlin\, Invalidenstraße 3\, 10115 Berlin
END:VEVENT
END:VCALENDAR