BEGIN:VCALENDAR
VERSION:2.0
PRODID:concerti//https://www.concerti.de
CALSCALE:GREGORIAN
BEGIN:VTIMEZONE
TZID:Europe/Berlin
X-LIC-LOCATION:Europe/Berlin
BEGIN:DAYLIGHT
TZOFFSETFROM:+0100
TZOFFSETTO:+0200
TZNAME:CEST
DTSTART:19700329T020000
RRULE:FREQ=YEARLY;BYMONTH=3;BYDAY=-1SU
END:DAYLIGHT
BEGIN:STANDARD
TZOFFSETFROM:+0200
TZOFFSETTO:+0100
TZNAME:CET
DTSTART:19701025T030000
RRULE:FREQ=YEARLY;BYMONTH=10;BYDAY=-1SU
END:STANDARD
END:VTIMEZONE
BEGIN:VEVENT
UID:fce5631f3dde51c02c7790d4bb884fe2
SUMMARY:It must schwing
URL:https://www.concerti.de/termine/it-must-schwing-895553/
DTSTART;TZID=Europe/Berlin:20260607T193000
DTEND;TZID=Europe/Berlin:20260607T213000
DESCRIPTION:Interpreten: Torsten Zwingenberger 4tet \nhttps://www.concerti.de/termine/it-must-schwing-895553/
LOCATION:Centre Bagatelle\, Berlin
END:VEVENT
END:VCALENDAR