BEGIN:VCALENDAR
VERSION:2.0
PRODID:concerti//https://www.concerti.de
CALSCALE:GREGORIAN
BEGIN:VTIMEZONE
TZID:Europe/Berlin
X-LIC-LOCATION:Europe/Berlin
BEGIN:DAYLIGHT
TZOFFSETFROM:+0100
TZOFFSETTO:+0200
TZNAME:CEST
DTSTART:19700329T020000
RRULE:FREQ=YEARLY;BYMONTH=3;BYDAY=-1SU
END:DAYLIGHT
BEGIN:STANDARD
TZOFFSETFROM:+0200
TZOFFSETTO:+0100
TZNAME:CET
DTSTART:19701025T030000
RRULE:FREQ=YEARLY;BYMONTH=10;BYDAY=-1SU
END:STANDARD
END:VTIMEZONE
BEGIN:VEVENT
UID:1f5d19e82d9383a0bbb25900eb5e2c5e
SUMMARY:Julian Prégardien (Tenor), Anna Gebhardt (Klavier), Mona Ameziane (Moderation &amp; Lesung) - Schumannfest Düsseldorf
URL:https://www.concerti.de/termine/julian-pregardien-tenor-anna-gebhardt-klavier-mona-ameziane-moderation-lesung-895218/
DTSTART;TZID=Europe/Berlin:20260620T220000
DTEND;TZID=Europe/Berlin:20260621T000000
DESCRIPTION:Interpreten: Julian Prégardien (Tenor)\, Anna Gebhardt (Klavier)\, Mona Ameziane (Moderation & Lesung) \nProgramm: Schubert: Du liebst mich nicht D 756 & Der Zwerg D 771\, Schumann: Belsatzar op. 57 & Ballade vom Heideknaben op. 122/1\, Loewe: Edward op. 1/1 & Erlkönig op. 1/3\, Clarke: The Seal Man \nhttps://www.concerti.de/termine/julian-pregardien-tenor-anna-gebhardt-klavier-mona-ameziane-moderation-lesung-895218/
LOCATION:Berger Kirche\, Düsseldorf
END:VEVENT
END:VCALENDAR