BEGIN:VCALENDAR
VERSION:2.0
PRODID:concerti//https://www.concerti.de
CALSCALE:GREGORIAN
BEGIN:VTIMEZONE
TZID:Europe/Berlin
X-LIC-LOCATION:Europe/Berlin
BEGIN:DAYLIGHT
TZOFFSETFROM:+0100
TZOFFSETTO:+0200
TZNAME:CEST
DTSTART:19700329T020000
RRULE:FREQ=YEARLY;BYMONTH=3;BYDAY=-1SU
END:DAYLIGHT
BEGIN:STANDARD
TZOFFSETFROM:+0200
TZOFFSETTO:+0100
TZNAME:CET
DTSTART:19701025T030000
RRULE:FREQ=YEARLY;BYMONTH=10;BYDAY=-1SU
END:STANDARD
END:VTIMEZONE
BEGIN:VEVENT
UID:9399ec3488aae71dfec3ab2622e7c8a1
SUMMARY:Ein feste Burg - Internationale Händel-Festspiele Göttingen
URL:https://www.concerti.de/termine/ein-feste-burg-895034/
DTSTART;TZID=Europe/Berlin:20260524T170000
DTEND;TZID=Europe/Berlin:20260524T190000
DESCRIPTION:Interpreten: Europäisches Hanse-Ensemble\, Manfred Cordes (Leitung) \nProgramm: Werke von Baltzar\, Bleyer\, P. Hasse\, Schnittelbach\, Strungk\, Tunder & Zuber \nhttps://www.concerti.de/termine/ein-feste-burg-895034/
LOCATION:Welfenschloss\, Hann. Münden
END:VEVENT
END:VCALENDAR