BEGIN:VCALENDAR
VERSION:2.0
PRODID:concerti//https://www.concerti.de
CALSCALE:GREGORIAN
BEGIN:VTIMEZONE
TZID:Europe/Berlin
X-LIC-LOCATION:Europe/Berlin
BEGIN:DAYLIGHT
TZOFFSETFROM:+0100
TZOFFSETTO:+0200
TZNAME:CEST
DTSTART:19700329T020000
RRULE:FREQ=YEARLY;BYMONTH=3;BYDAY=-1SU
END:DAYLIGHT
BEGIN:STANDARD
TZOFFSETFROM:+0200
TZOFFSETTO:+0100
TZNAME:CET
DTSTART:19701025T030000
RRULE:FREQ=YEARLY;BYMONTH=10;BYDAY=-1SU
END:STANDARD
END:VTIMEZONE
BEGIN:VEVENT
UID:5bad763e45a6e2bde62e3da4132cc755
SUMMARY:Rodelindas Sohn - Internationale Händel-Festspiele Göttingen
URL:https://www.concerti.de/termine/rodelindas-sohn-895028/
DTSTART;TZID=Europe/Berlin:20260523T150000
DTEND;TZID=Europe/Berlin:20260523T170000
DESCRIPTION:Interpreten: Carly Power (Sopran)\, Camilo Delgado Díaz (Tenor)\, NeoBarock\, Michael Sommer (Video) \nProgramm: Musikalische Playmobil-Performance \nhttps://www.concerti.de/termine/rodelindas-sohn-895028/
LOCATION:Sartorius Quartier\, Göttingen
END:VEVENT
END:VCALENDAR