BEGIN:VCALENDAR
VERSION:2.0
PRODID:concerti//https://www.concerti.de
CALSCALE:GREGORIAN
BEGIN:VTIMEZONE
TZID:Europe/Berlin
X-LIC-LOCATION:Europe/Berlin
BEGIN:DAYLIGHT
TZOFFSETFROM:+0100
TZOFFSETTO:+0200
TZNAME:CEST
DTSTART:19700329T020000
RRULE:FREQ=YEARLY;BYMONTH=3;BYDAY=-1SU
END:DAYLIGHT
BEGIN:STANDARD
TZOFFSETFROM:+0200
TZOFFSETTO:+0100
TZNAME:CET
DTSTART:19701025T030000
RRULE:FREQ=YEARLY;BYMONTH=10;BYDAY=-1SU
END:STANDARD
END:VTIMEZONE
BEGIN:VEVENT
UID:e22a5039aae065ad12f0d1591c10e740
SUMMARY:Il Parrasio - Internationale Händel-Festspiele Göttingen: Lunchkonzert
URL:https://www.concerti.de/termine/il-parrasio-895002/
DTSTART;TZID=Europe/Berlin:20260521T193000
DTEND;TZID=Europe/Berlin:20260521T213000
DESCRIPTION:Interpreten: Il Parrasio \nProgramm: Händel: Sonate Nr. 4 G-Dur HWV 399\, Sonate A-Dur HWV 372 & Sonate op. 2 Nr. 6 g-Moll HWV 391\, Geminiani: Sonate Nr. 6 a-Moll H. 108\, Böhm: Praeludium\, Fuge und Postludium g-Moll IGB 28\, Biber: Rosenkranz-Sonate Nr. 1 „Verkündigung“ d-Moll C 90\, Purcell: Triosonate Nr. 10 D-Dur Z. 811\, Telemann: 18 Canons Mélodieux Nr. 1 G-Dur TWV 40:118-123 \nhttps://www.concerti.de/termine/il-parrasio-895002/
LOCATION:Historisches Rathaus\, Duderstadt
END:VEVENT
END:VCALENDAR