BEGIN:VCALENDAR
VERSION:2.0
PRODID:concerti//https://www.concerti.de
CALSCALE:GREGORIAN
BEGIN:VTIMEZONE
TZID:Europe/Berlin
X-LIC-LOCATION:Europe/Berlin
BEGIN:DAYLIGHT
TZOFFSETFROM:+0100
TZOFFSETTO:+0200
TZNAME:CEST
DTSTART:19700329T020000
RRULE:FREQ=YEARLY;BYMONTH=3;BYDAY=-1SU
END:DAYLIGHT
BEGIN:STANDARD
TZOFFSETFROM:+0200
TZOFFSETTO:+0100
TZNAME:CET
DTSTART:19701025T030000
RRULE:FREQ=YEARLY;BYMONTH=10;BYDAY=-1SU
END:STANDARD
END:VTIMEZONE
BEGIN:VEVENT
UID:b2fa98e62c2ddc544a5614a4b10b90e8
SUMMARY:Vive les femmes! - Internationale Händel-Festspiele Göttingen
URL:https://www.concerti.de/termine/vive-les-femmes-894963/
DTSTART;TZID=Europe/Berlin:20260517T203000
DTEND;TZID=Europe/Berlin:20260517T223000
DESCRIPTION:Interpreten: La Mandorle \nProgramm: Couperin: L’Adolescente\, L’Intime\, Les Charmes & La Séduisante\, Royer: L’Aimable\, Händel: Sonate c-Moll\, Credete al mio dolore aus „Alcina“ & Sonate Nr. 5 g-Moll\, Jacquet de La Guerre: Sonate Nr. 4a g-Moll\, Murcia: Fandango aus „Códice Saldívar“ \nhttps://www.concerti.de/termine/vive-les-femmes-894963/
LOCATION:Reformierte Kirche\, Göttingen
END:VEVENT
END:VCALENDAR