BEGIN:VCALENDAR
VERSION:2.0
PRODID:concerti//https://www.concerti.de
CALSCALE:GREGORIAN
BEGIN:VTIMEZONE
TZID:Europe/Berlin
X-LIC-LOCATION:Europe/Berlin
BEGIN:DAYLIGHT
TZOFFSETFROM:+0100
TZOFFSETTO:+0200
TZNAME:CEST
DTSTART:19700329T020000
RRULE:FREQ=YEARLY;BYMONTH=3;BYDAY=-1SU
END:DAYLIGHT
BEGIN:STANDARD
TZOFFSETFROM:+0200
TZOFFSETTO:+0100
TZNAME:CET
DTSTART:19701025T030000
RRULE:FREQ=YEARLY;BYMONTH=10;BYDAY=-1SU
END:STANDARD
END:VTIMEZONE
BEGIN:VEVENT
UID:459659b0a9792f6477fbd25a63373ab7
SUMMARY:London Dreams - Internationale Händel-Festspiele Göttingen
URL:https://www.concerti.de/termine/london-dreams-894957/
DTSTART;TZID=Europe/Berlin:20260516T170000
DTEND;TZID=Europe/Berlin:20260516T190000
DESCRIPTION:Interpreten: Osteroder Kinderchor\, Jugendchor Herzberg/Osterode\, Chor-Ag GS Hattorf\, Kammerensemble mit Mitgliedern des FestspielOrchesters Göttingen\, Jörg Ehrenfeuchter (Leitung) \nProgramm: London Dreams \nhttps://www.concerti.de/termine/london-dreams-894957/
LOCATION:St. Jacobi-Schlosskirche\, Osterode
END:VEVENT
END:VCALENDAR