BEGIN:VCALENDAR
VERSION:2.0
PRODID:concerti//https://www.concerti.de
CALSCALE:GREGORIAN
BEGIN:VTIMEZONE
TZID:Europe/Berlin
X-LIC-LOCATION:Europe/Berlin
BEGIN:DAYLIGHT
TZOFFSETFROM:+0100
TZOFFSETTO:+0200
TZNAME:CEST
DTSTART:19700329T020000
RRULE:FREQ=YEARLY;BYMONTH=3;BYDAY=-1SU
END:DAYLIGHT
BEGIN:STANDARD
TZOFFSETFROM:+0200
TZOFFSETTO:+0100
TZNAME:CET
DTSTART:19701025T030000
RRULE:FREQ=YEARLY;BYMONTH=10;BYDAY=-1SU
END:STANDARD
END:VTIMEZONE
BEGIN:VEVENT
UID:31e0366b134ff3385e7466a58e711511
SUMMARY:Kindertag - Internationale Händel-Festspiele Göttingen
URL:https://www.concerti.de/termine/kindertag-894953/
DTSTART;TZID=Europe/Berlin:20260516T110000
DTEND;TZID=Europe/Berlin:20260516T130000
DESCRIPTION:Interpreten: Porter Percussion Duo\, Ensemble Sozusingen\, Stefan Hoffmann (Moderation) \nProgramm: Werke von Händel \nhttps://www.concerti.de/termine/kindertag-894953/
LOCATION:St. Jacobi-Kirche\, Göttingen
END:VEVENT
END:VCALENDAR