BEGIN:VCALENDAR
VERSION:2.0
PRODID:concerti//https://www.concerti.de
CALSCALE:GREGORIAN
BEGIN:VTIMEZONE
TZID:Europe/Berlin
X-LIC-LOCATION:Europe/Berlin
BEGIN:DAYLIGHT
TZOFFSETFROM:+0100
TZOFFSETTO:+0200
TZNAME:CEST
DTSTART:19700329T020000
RRULE:FREQ=YEARLY;BYMONTH=3;BYDAY=-1SU
END:DAYLIGHT
BEGIN:STANDARD
TZOFFSETFROM:+0200
TZOFFSETTO:+0100
TZNAME:CET
DTSTART:19701025T030000
RRULE:FREQ=YEARLY;BYMONTH=10;BYDAY=-1SU
END:STANDARD
END:VTIMEZONE
BEGIN:VEVENT
UID:553511fd1c584be6766164ffc1f54461
SUMMARY:Der rollende Georg - Internationale Händel-Festspiele Göttingen
URL:https://www.concerti.de/termine/der-rollende-georg-894930/
DTSTART;TZID=Europe/Berlin:20260508T164500
DTEND;TZID=Europe/Berlin:20260508T184500
DESCRIPTION:Interpreten: Porter Percussion \nhttps://www.concerti.de/termine/der-rollende-georg-894930/
LOCATION:An der Marktkirche\, Einbeck
END:VEVENT
END:VCALENDAR