BEGIN:VCALENDAR
VERSION:2.0
PRODID:concerti//https://www.concerti.de
CALSCALE:GREGORIAN
BEGIN:VTIMEZONE
TZID:Europe/Berlin
X-LIC-LOCATION:Europe/Berlin
BEGIN:DAYLIGHT
TZOFFSETFROM:+0100
TZOFFSETTO:+0200
TZNAME:CEST
DTSTART:19700329T020000
RRULE:FREQ=YEARLY;BYMONTH=3;BYDAY=-1SU
END:DAYLIGHT
BEGIN:STANDARD
TZOFFSETFROM:+0200
TZOFFSETTO:+0100
TZNAME:CET
DTSTART:19701025T030000
RRULE:FREQ=YEARLY;BYMONTH=10;BYDAY=-1SU
END:STANDARD
END:VTIMEZONE
BEGIN:VEVENT
UID:4ddd82997be6f74772613aaae9270c92
SUMMARY:Justus Konstantin Frantz (Klavier)
URL:https://www.concerti.de/termine/justus-konstantin-frantz-klavier-gewandhaus-leipzig-894879/
DTSTART;TZID=Europe/Berlin:20260622T190000
DTEND;TZID=Europe/Berlin:20260622T210000
DESCRIPTION:Interpreten: Justus Konstantin Frantz (Klavier) \nProgramm: Mozart: Sonate A-Dur KV 331\, Schubert: Impromptu As-Dur D 899/4\, Debussy: Estampes\, Rachmaninoff: Variationen über ein Thema von Corelli op. 42 \nhttps://www.concerti.de/termine/justus-konstantin-frantz-klavier-gewandhaus-leipzig-894879/
LOCATION:Gewandhaus Leipzig\, Augustusplatz 8\, 04109 Leipzig
END:VEVENT
END:VCALENDAR