BEGIN:VCALENDAR
VERSION:2.0
PRODID:concerti//https://www.concerti.de
CALSCALE:GREGORIAN
BEGIN:VTIMEZONE
TZID:Europe/Berlin
X-LIC-LOCATION:Europe/Berlin
BEGIN:DAYLIGHT
TZOFFSETFROM:+0100
TZOFFSETTO:+0200
TZNAME:CEST
DTSTART:19700329T020000
RRULE:FREQ=YEARLY;BYMONTH=3;BYDAY=-1SU
END:DAYLIGHT
BEGIN:STANDARD
TZOFFSETFROM:+0200
TZOFFSETTO:+0100
TZNAME:CET
DTSTART:19701025T030000
RRULE:FREQ=YEARLY;BYMONTH=10;BYDAY=-1SU
END:STANDARD
END:VTIMEZONE
BEGIN:VEVENT
UID:9c406b253e1c0bbb3442ee8d1d536a6f
SUMMARY:Stuttgrter Philharmoniker, Rémy Ballot (Leitung) - Richard-Strauss-Tage
URL:https://www.concerti.de/termine/stuttgrter-philharmoniker-remy-ballot-leitung-894606/
DTSTART;TZID=Europe/Berlin:20260613T190000
DTEND;TZID=Europe/Berlin:20260613T210000
DESCRIPTION:Interpreten: Stuttgrter Philharmoniker\, Rémy Ballot (Leitung) \nProgramm: Bülow: Nirwana op. 20\, R. Strauss: Tod und Verklärung op. 24\, Brahms: Sinfonie Nr. 4 e-Moll op. 98 \nhttps://www.concerti.de/termine/stuttgrter-philharmoniker-remy-ballot-leitung-894606/
LOCATION:Kongresshaus\, Garmisch-Partenkirchen
END:VEVENT
END:VCALENDAR