BEGIN:VCALENDAR
VERSION:2.0
PRODID:concerti//https://www.concerti.de
CALSCALE:GREGORIAN
BEGIN:VTIMEZONE
TZID:Europe/Berlin
X-LIC-LOCATION:Europe/Berlin
BEGIN:DAYLIGHT
TZOFFSETFROM:+0100
TZOFFSETTO:+0200
TZNAME:CEST
DTSTART:19700329T020000
RRULE:FREQ=YEARLY;BYMONTH=3;BYDAY=-1SU
END:DAYLIGHT
BEGIN:STANDARD
TZOFFSETFROM:+0200
TZOFFSETTO:+0100
TZNAME:CET
DTSTART:19701025T030000
RRULE:FREQ=YEARLY;BYMONTH=10;BYDAY=-1SU
END:STANDARD
END:VTIMEZONE
BEGIN:VEVENT
UID:b90048825d22c04c8eb626c910818871
SUMMARY:Meisterkurs Abschlusskonzert - Richard-Strauss-Tage
URL:https://www.concerti.de/termine/meisterkurs-abschlusskonzert-894600/
DTSTART;TZID=Europe/Berlin:20260612T140000
DTEND;TZID=Europe/Berlin:20260612T160000
DESCRIPTION:Interpreten: Alessandro Misciasci (Klavier) \nhttps://www.concerti.de/termine/meisterkurs-abschlusskonzert-894600/
LOCATION:Kongresshaus\, Garmisch-Partenkirchen
END:VEVENT
END:VCALENDAR