BEGIN:VCALENDAR
VERSION:2.0
PRODID:concerti//https://www.concerti.de
CALSCALE:GREGORIAN
BEGIN:VTIMEZONE
TZID:Europe/Berlin
X-LIC-LOCATION:Europe/Berlin
BEGIN:DAYLIGHT
TZOFFSETFROM:+0100
TZOFFSETTO:+0200
TZNAME:CEST
DTSTART:19700329T020000
RRULE:FREQ=YEARLY;BYMONTH=3;BYDAY=-1SU
END:DAYLIGHT
BEGIN:STANDARD
TZOFFSETFROM:+0200
TZOFFSETTO:+0100
TZNAME:CET
DTSTART:19701025T030000
RRULE:FREQ=YEARLY;BYMONTH=10;BYDAY=-1SU
END:STANDARD
END:VTIMEZONE
BEGIN:VEVENT
UID:ff4219f2a6651e653253ac10c4bebdf6
SUMMARY:Open-Air - Richard-Strauss-Tage
URL:https://www.concerti.de/termine/open-air-894597/
DTSTART;TZID=Europe/Berlin:20260610T200000
DTEND;TZID=Europe/Berlin:20260610T220000
DESCRIPTION:Interpreten: Ilme Stahnke (Mezzosopran)\, Friedrich Szepansky (Klavier)\, Musikkapelle Partenkirchen\, Josef Grasegger (Leitung) \nProgramm: Werke von R. Strauss \nhttps://www.concerti.de/termine/open-air-894597/
LOCATION:Laura-Dahlmeier-Park\, Garmisch-Partenkirchen
END:VEVENT
END:VCALENDAR