BEGIN:VCALENDAR
VERSION:2.0
PRODID:concerti//https://www.concerti.de
CALSCALE:GREGORIAN
BEGIN:VTIMEZONE
TZID:Europe/Berlin
X-LIC-LOCATION:Europe/Berlin
BEGIN:DAYLIGHT
TZOFFSETFROM:+0100
TZOFFSETTO:+0200
TZNAME:CEST
DTSTART:19700329T020000
RRULE:FREQ=YEARLY;BYMONTH=3;BYDAY=-1SU
END:DAYLIGHT
BEGIN:STANDARD
TZOFFSETFROM:+0200
TZOFFSETTO:+0100
TZNAME:CET
DTSTART:19701025T030000
RRULE:FREQ=YEARLY;BYMONTH=10;BYDAY=-1SU
END:STANDARD
END:VTIMEZONE
BEGIN:VEVENT
UID:bd175a2b37cb47537686af73572cd827
SUMMARY:Alessandro Misciasci (Klavier) - Richard-Strauss-Tage
URL:https://www.concerti.de/termine/alessandro-misciasci-klavier-richard-strauss-institut-garmisch-partenkirchen-894590/
DTSTART;TZID=Europe/Berlin:20260608T100000
DTEND;TZID=Europe/Berlin:20260608T120000
DESCRIPTION:Interpreten: Alessandro Misciasci (Klavier) \nProgramm: Werke von R. Strauss \nhttps://www.concerti.de/termine/alessandro-misciasci-klavier-richard-strauss-institut-garmisch-partenkirchen-894590/
LOCATION:Richard-Strauss-Institut Garmisch-Partenkirchen\, Schnitzschulstr. 19\, 82467 Garmisch-Partenkirchen
END:VEVENT
END:VCALENDAR