BEGIN:VCALENDAR
VERSION:2.0
PRODID:concerti//https://www.concerti.de
CALSCALE:GREGORIAN
BEGIN:VTIMEZONE
TZID:Europe/Berlin
X-LIC-LOCATION:Europe/Berlin
BEGIN:DAYLIGHT
TZOFFSETFROM:+0100
TZOFFSETTO:+0200
TZNAME:CEST
DTSTART:19700329T020000
RRULE:FREQ=YEARLY;BYMONTH=3;BYDAY=-1SU
END:DAYLIGHT
BEGIN:STANDARD
TZOFFSETFROM:+0200
TZOFFSETTO:+0100
TZNAME:CET
DTSTART:19701025T030000
RRULE:FREQ=YEARLY;BYMONTH=10;BYDAY=-1SU
END:STANDARD
END:VTIMEZONE
BEGIN:VEVENT
UID:33cc727fe0b13e77cc28020fe9ff7962
SUMMARY:Noah Bendix-Balgley (Violine), Benjamin Hochman (Klavier) - Nymphenburger Sommer
URL:https://www.concerti.de/termine/noah-bendix-balgley-violine-benjamin-hochman-klavier-residenz-muenchen-894575/
DTSTART;TZID=Europe/Berlin:20260628T193000
DTEND;TZID=Europe/Berlin:20260628T213000
DESCRIPTION:Interpreten: Noah Bendix-Balgley (Violine)\, Benjamin Hochman (Klavier) \nProgramm: Suk: Vier Stücke\, Beethoven: Violinsonate G-Dur op. 96\, Schubert: Violinsonatine g-Moll D 408\, Ravel: Violinsonate G-Dur \nhttps://www.concerti.de/termine/noah-bendix-balgley-violine-benjamin-hochman-klavier-residenz-muenchen-894575/
LOCATION:Residenz München\, Residenzstraße 1\, 80333 München
END:VEVENT
END:VCALENDAR