BEGIN:VCALENDAR
VERSION:2.0
PRODID:concerti//https://www.concerti.de
CALSCALE:GREGORIAN
BEGIN:VTIMEZONE
TZID:Europe/Berlin
X-LIC-LOCATION:Europe/Berlin
BEGIN:DAYLIGHT
TZOFFSETFROM:+0100
TZOFFSETTO:+0200
TZNAME:CEST
DTSTART:19700329T020000
RRULE:FREQ=YEARLY;BYMONTH=3;BYDAY=-1SU
END:DAYLIGHT
BEGIN:STANDARD
TZOFFSETFROM:+0200
TZOFFSETTO:+0100
TZNAME:CET
DTSTART:19701025T030000
RRULE:FREQ=YEARLY;BYMONTH=10;BYDAY=-1SU
END:STANDARD
END:VTIMEZONE
BEGIN:VEVENT
UID:293c5be738ad5178f6e3b417aae930f9
SUMMARY:Hanna Schwalbe (Klavier) - Nymphenburger Sommer
URL:https://www.concerti.de/termine/hanna-schwalbe-klavier-residenz-muenchen-894557/
DTSTART;TZID=Europe/Berlin:20260613T193000
DTEND;TZID=Europe/Berlin:20260613T213000
DESCRIPTION:Interpreten: Hanna Schwalbe (Klavier) \nProgramm: Werke von Schubert\, Liszt & Ravel \nhttps://www.concerti.de/termine/hanna-schwalbe-klavier-residenz-muenchen-894557/
LOCATION:Residenz München\, Residenzstraße 1\, 80333 München
END:VEVENT
END:VCALENDAR