BEGIN:VCALENDAR
VERSION:2.0
PRODID:concerti//https://www.concerti.de
CALSCALE:GREGORIAN
BEGIN:VTIMEZONE
TZID:Europe/Berlin
X-LIC-LOCATION:Europe/Berlin
BEGIN:DAYLIGHT
TZOFFSETFROM:+0100
TZOFFSETTO:+0200
TZNAME:CEST
DTSTART:19700329T020000
RRULE:FREQ=YEARLY;BYMONTH=3;BYDAY=-1SU
END:DAYLIGHT
BEGIN:STANDARD
TZOFFSETFROM:+0200
TZOFFSETTO:+0100
TZNAME:CET
DTSTART:19701025T030000
RRULE:FREQ=YEARLY;BYMONTH=10;BYDAY=-1SU
END:STANDARD
END:VTIMEZONE
BEGIN:VEVENT
UID:0ea7f9898df20a4705c61d057ed7ea99
SUMMARY:Glass: La Belle et la Bête
URL:https://www.concerti.de/termine/glass-la-belle-et-la-bete-theater-im-martini-park-894536/
DTSTART;TZID=Europe/Berlin:20260617T193000
DTEND;TZID=Europe/Berlin:20260617T213000
DESCRIPTION:Interpreten: Luise von Garnier (La Belle)\, Wiard Witholt (La Bête Seele)\, Georges Khoukaz (La Bête Aktion)\, Shin Yeo (Le Père)\, Domonkos Héja (Leitung)\, Susanne Lietzow (Regie) \nhttps://www.concerti.de/termine/glass-la-belle-et-la-bete-theater-im-martini-park-894536/
LOCATION:Staatstheater Augsburg (martini-Park)\, Provinostraße 52\, 86153 Augsburg
END:VEVENT
END:VCALENDAR