BEGIN:VCALENDAR
VERSION:2.0
PRODID:concerti//https://www.concerti.de
CALSCALE:GREGORIAN
BEGIN:VTIMEZONE
TZID:Europe/Berlin
X-LIC-LOCATION:Europe/Berlin
BEGIN:DAYLIGHT
TZOFFSETFROM:+0100
TZOFFSETTO:+0200
TZNAME:CEST
DTSTART:19700329T020000
RRULE:FREQ=YEARLY;BYMONTH=3;BYDAY=-1SU
END:DAYLIGHT
BEGIN:STANDARD
TZOFFSETFROM:+0200
TZOFFSETTO:+0100
TZNAME:CET
DTSTART:19701025T030000
RRULE:FREQ=YEARLY;BYMONTH=10;BYDAY=-1SU
END:STANDARD
END:VTIMEZONE
BEGIN:VEVENT
UID:b9f259723d0903c2ef3f1083c3499a49
SUMMARY:Octavians
URL:https://www.concerti.de/termine/octavians-894485/
DTSTART;TZID=Europe/Berlin:20261128T160000
DTEND;TZID=Europe/Berlin:20261128T180000
DESCRIPTION:Interpreten: Octavians \nhttps://www.concerti.de/termine/octavians-894485/
LOCATION:Kirche Grünberg\, Ponitz
END:VEVENT
END:VCALENDAR