BEGIN:VCALENDAR
VERSION:2.0
PRODID:concerti//https://www.concerti.de
CALSCALE:GREGORIAN
BEGIN:VTIMEZONE
TZID:Europe/Berlin
X-LIC-LOCATION:Europe/Berlin
BEGIN:DAYLIGHT
TZOFFSETFROM:+0100
TZOFFSETTO:+0200
TZNAME:CEST
DTSTART:19700329T020000
RRULE:FREQ=YEARLY;BYMONTH=3;BYDAY=-1SU
END:DAYLIGHT
BEGIN:STANDARD
TZOFFSETFROM:+0200
TZOFFSETTO:+0100
TZNAME:CET
DTSTART:19701025T030000
RRULE:FREQ=YEARLY;BYMONTH=10;BYDAY=-1SU
END:STANDARD
END:VTIMEZONE
BEGIN:VEVENT
UID:e22d52a6cb4cb5ae7385c462ca286b69
SUMMARY:J. S. Bach: Messe in h-Moll BWV 232 - Bachfest Leipzig
URL:https://www.concerti.de/termine/j-s-bach-messe-in-h-moll-bwv-232-thomaskirche-leipzig-894460/
DTSTART;TZID=Europe/Berlin:20260621T180000
DTEND;TZID=Europe/Berlin:20260621T200000
DESCRIPTION:Interpreten: Dorothee Mields (Sopran)\, Miriam Feuersinger (Sopran)\, Ulrike Malotta (Alt)\, David Fischer (Tenor)\, Manuel Walser (Bass)\, Thomanerchor Leipzig\, Akademie für Alte Musik Berlin\, Andreas Reize (Leitung) \nhttps://www.concerti.de/termine/j-s-bach-messe-in-h-moll-bwv-232-thomaskirche-leipzig-894460/
LOCATION:Thomaskirche Leipzig\, Thomaskirchhof 18\, 04109 Leipzig
END:VEVENT
END:VCALENDAR