BEGIN:VCALENDAR
VERSION:2.0
PRODID:concerti//https://www.concerti.de
CALSCALE:GREGORIAN
BEGIN:VTIMEZONE
TZID:Europe/Berlin
X-LIC-LOCATION:Europe/Berlin
BEGIN:DAYLIGHT
TZOFFSETFROM:+0100
TZOFFSETTO:+0200
TZNAME:CEST
DTSTART:19700329T020000
RRULE:FREQ=YEARLY;BYMONTH=3;BYDAY=-1SU
END:DAYLIGHT
BEGIN:STANDARD
TZOFFSETFROM:+0200
TZOFFSETTO:+0100
TZNAME:CET
DTSTART:19701025T030000
RRULE:FREQ=YEARLY;BYMONTH=10;BYDAY=-1SU
END:STANDARD
END:VTIMEZONE
BEGIN:VEVENT
UID:72568e6b48e531b5d26b3f3b4befdfbf
SUMMARY:J. S. Bach: Goldberg-Variationen BWV 988 - Bachfest Leipzig
URL:https://www.concerti.de/termine/j-s-bach-goldberg-variationen-bwv-988-mendelssohn-haus-894451/
DTSTART;TZID=Europe/Berlin:20260621T110000
DTEND;TZID=Europe/Berlin:20260621T130000
DESCRIPTION:Interpreten: William Youn (Klavier) \nhttps://www.concerti.de/termine/j-s-bach-goldberg-variationen-bwv-988-mendelssohn-haus-894451/
LOCATION:Mendelssohn-Haus\, Goldschmidtstr. 12\, 04103 Leipzig
END:VEVENT
END:VCALENDAR