BEGIN:VCALENDAR
VERSION:2.0
PRODID:concerti//https://www.concerti.de
CALSCALE:GREGORIAN
BEGIN:VTIMEZONE
TZID:Europe/Berlin
X-LIC-LOCATION:Europe/Berlin
BEGIN:DAYLIGHT
TZOFFSETFROM:+0100
TZOFFSETTO:+0200
TZNAME:CEST
DTSTART:19700329T020000
RRULE:FREQ=YEARLY;BYMONTH=3;BYDAY=-1SU
END:DAYLIGHT
BEGIN:STANDARD
TZOFFSETFROM:+0200
TZOFFSETTO:+0100
TZNAME:CET
DTSTART:19701025T030000
RRULE:FREQ=YEARLY;BYMONTH=10;BYDAY=-1SU
END:STANDARD
END:VTIMEZONE
BEGIN:VEVENT
UID:e70513737f3ae6b33353ca046983b599
SUMMARY:Akademiekonzert - Bachfest Leipzig
URL:https://www.concerti.de/termine/akademiekonzert-894442/
DTSTART;TZID=Europe/Berlin:20260620T193000
DTEND;TZID=Europe/Berlin:20260620T213000
DESCRIPTION:Interpreten: Joowon Chung (Sopran)\, Ursula Göller (Sopran)\, Nina Pohn (Violine)\, Uwe Ulbrich (Violine)\, Helga Schmidtmayer (Viola)\, Amber McPherson (Viola)\, Jan Freiheit (Violoncello)\, Simon Linné (Theorbe)\, Alexander von Heißen (Cembalo & Truhenorgel)\, Studierende der HMT Leipzig\, Stephan Rath (Leitung) \nProgramm: Werke von Cesti\, Lonati\, Pasquini\, Colista\, Scarlatti\, Corelli u. a. \nhttps://www.concerti.de/termine/akademiekonzert-894442/
LOCATION:Musikinstrumentenmuseum\, Leipzig
END:VEVENT
END:VCALENDAR