BEGIN:VCALENDAR
VERSION:2.0
PRODID:concerti//https://www.concerti.de
CALSCALE:GREGORIAN
BEGIN:VTIMEZONE
TZID:Europe/Berlin
X-LIC-LOCATION:Europe/Berlin
BEGIN:DAYLIGHT
TZOFFSETFROM:+0100
TZOFFSETTO:+0200
TZNAME:CEST
DTSTART:19700329T020000
RRULE:FREQ=YEARLY;BYMONTH=3;BYDAY=-1SU
END:DAYLIGHT
BEGIN:STANDARD
TZOFFSETFROM:+0200
TZOFFSETTO:+0100
TZNAME:CET
DTSTART:19701025T030000
RRULE:FREQ=YEARLY;BYMONTH=10;BYDAY=-1SU
END:STANDARD
END:VTIMEZONE
BEGIN:VEVENT
UID:1e99fa4f398d3d7413efa70c413665b2
SUMMARY:Sergey Malov (Violine) - Bachfest Leipzig
URL:https://www.concerti.de/termine/sergey-malov-violine-894439/
DTSTART;TZID=Europe/Berlin:20260620T190000
DTEND;TZID=Europe/Berlin:20260620T210000
DESCRIPTION:Interpreten: Sergey Malov (Violine) \nProgramm: Pisendel: Violinsonate a-Moll\, Telemann: Fantasien F-Dur & G-Dur\, J. S. Bach: Partita E-Dur BWV 1006 & Suite D-Dur BWV 1012 \nhttps://www.concerti.de/termine/sergey-malov-violine-894439/
LOCATION:Schumann-Haus\, Leipzig
END:VEVENT
END:VCALENDAR