BEGIN:VCALENDAR
VERSION:2.0
PRODID:concerti//https://www.concerti.de
CALSCALE:GREGORIAN
BEGIN:VTIMEZONE
TZID:Europe/Berlin
X-LIC-LOCATION:Europe/Berlin
BEGIN:DAYLIGHT
TZOFFSETFROM:+0100
TZOFFSETTO:+0200
TZNAME:CEST
DTSTART:19700329T020000
RRULE:FREQ=YEARLY;BYMONTH=3;BYDAY=-1SU
END:DAYLIGHT
BEGIN:STANDARD
TZOFFSETFROM:+0200
TZOFFSETTO:+0100
TZNAME:CET
DTSTART:19701025T030000
RRULE:FREQ=YEARLY;BYMONTH=10;BYDAY=-1SU
END:STANDARD
END:VTIMEZONE
BEGIN:VEVENT
UID:98e63da3eba9d6a202e492e0e90482b7
SUMMARY:Lucile Boulanger (Viola da gamba), Pierre Hantaï (Cembalo) - Bachfest Leipzig
URL:https://www.concerti.de/termine/lucile-boulanger-viola-da-gamba-pierre-hantai-cembalo-paulinum-aula-und-universitaetskirche-st-pauli-894424/
DTSTART;TZID=Europe/Berlin:20260620T120000
DTEND;TZID=Europe/Berlin:20260620T140000
DESCRIPTION:Interpreten: Lucile Boulanger (Viola da gamba)\, Pierre Hantaï (Cembalo) \nProgramm: J. S. Bach: Sonaten e-Moll BWV 1023\, G-Dur BWV 1027\, D-Dur BWV 1028 & g-Moll BWV 1029 \nhttps://www.concerti.de/termine/lucile-boulanger-viola-da-gamba-pierre-hantai-cembalo-paulinum-aula-und-universitaetskirche-st-pauli-894424/
LOCATION:Paulinum – Aula und Universitätskirche St. Pauli\, Augustusplatz\, 04109 Leipzig
END:VEVENT
END:VCALENDAR