BEGIN:VCALENDAR
VERSION:2.0
PRODID:concerti//https://www.concerti.de
CALSCALE:GREGORIAN
BEGIN:VTIMEZONE
TZID:Europe/Berlin
X-LIC-LOCATION:Europe/Berlin
BEGIN:DAYLIGHT
TZOFFSETFROM:+0100
TZOFFSETTO:+0200
TZNAME:CEST
DTSTART:19700329T020000
RRULE:FREQ=YEARLY;BYMONTH=3;BYDAY=-1SU
END:DAYLIGHT
BEGIN:STANDARD
TZOFFSETFROM:+0200
TZOFFSETTO:+0100
TZNAME:CET
DTSTART:19701025T030000
RRULE:FREQ=YEARLY;BYMONTH=10;BYDAY=-1SU
END:STANDARD
END:VTIMEZONE
BEGIN:VEVENT
UID:1f0a41c37c9ad6a485dc9db715d95f1b
SUMMARY:Ivo Mrvelj (Orgel), The Madrigal Singers, Dor Magen (Leitung) - Bachfest Leipzig
URL:https://www.concerti.de/termine/ivo-mrvelj-orgel-the-madrigal-singers-dor-magen-leitung-thomaskirche-leipzig-894405/
DTSTART;TZID=Europe/Berlin:20260619T180000
DTEND;TZID=Europe/Berlin:20260619T200000
DESCRIPTION:Interpreten: Ivo Mrvelj (Orgel)\, The Madrigal Singers\, Dor Magen (Leitung)\, The Madrigal Singers\, Dor Magen (Leitung) \nProgramm: J. S. Bach: Nun danket alle Gott BWV 657\, Rossi: Shir lama’alot & Haleluyah haleli\, Avni: Mizmorei Tehilim\, Braun: Shir Ha-Shirim III\, Mendelssohn: Nachspiel D-Dur \nhttps://www.concerti.de/termine/ivo-mrvelj-orgel-the-madrigal-singers-dor-magen-leitung-thomaskirche-leipzig-894405/
LOCATION:Thomaskirche Leipzig\, Thomaskirchhof 18\, 04109 Leipzig
END:VEVENT
END:VCALENDAR