BEGIN:VCALENDAR
VERSION:2.0
PRODID:concerti//https://www.concerti.de
CALSCALE:GREGORIAN
BEGIN:VTIMEZONE
TZID:Europe/Berlin
X-LIC-LOCATION:Europe/Berlin
BEGIN:DAYLIGHT
TZOFFSETFROM:+0100
TZOFFSETTO:+0200
TZNAME:CEST
DTSTART:19700329T020000
RRULE:FREQ=YEARLY;BYMONTH=3;BYDAY=-1SU
END:DAYLIGHT
BEGIN:STANDARD
TZOFFSETFROM:+0200
TZOFFSETTO:+0100
TZNAME:CET
DTSTART:19701025T030000
RRULE:FREQ=YEARLY;BYMONTH=10;BYDAY=-1SU
END:STANDARD
END:VTIMEZONE
BEGIN:VEVENT
UID:e76955ef46b7f12fa1f2274f97b18eae
SUMMARY:Mateusz Kowalski (Gitarre) - Bachfest Leipzig
URL:https://www.concerti.de/termine/mateusz-kowalski-gitarre-894395/
DTSTART;TZID=Europe/Berlin:20260619T113000
DTEND;TZID=Europe/Berlin:20260619T133000
DESCRIPTION:Interpreten: Mateusz Kowalski (Gitarre) \nProgramm: J. S. Bach: Solo a-Moll BWV 1013 \, Schafe können sicher weiden aus „Was mir behagt\, ist nur die muntre Jagd“ BWV 208 & Partita E-Dur\, BWV 1006.2\, Horecki: Fantasie op. 40\, Assad\, Preludios Chopinianos I–VI & XXIV u. a. \nhttps://www.concerti.de/termine/mateusz-kowalski-gitarre-894395/
LOCATION:Alte Börse\, Leipzig
END:VEVENT
END:VCALENDAR