BEGIN:VCALENDAR
VERSION:2.0
PRODID:concerti//https://www.concerti.de
CALSCALE:GREGORIAN
BEGIN:VTIMEZONE
TZID:Europe/Berlin
X-LIC-LOCATION:Europe/Berlin
BEGIN:DAYLIGHT
TZOFFSETFROM:+0100
TZOFFSETTO:+0200
TZNAME:CEST
DTSTART:19700329T020000
RRULE:FREQ=YEARLY;BYMONTH=3;BYDAY=-1SU
END:DAYLIGHT
BEGIN:STANDARD
TZOFFSETFROM:+0200
TZOFFSETTO:+0100
TZNAME:CET
DTSTART:19701025T030000
RRULE:FREQ=YEARLY;BYMONTH=10;BYDAY=-1SU
END:STANDARD
END:VTIMEZONE
BEGIN:VEVENT
UID:511ad76fff94cfb920d2856f08f9583b
SUMMARY:Mark Kroll (Cembalo) - Bachfest Leipzig
URL:https://www.concerti.de/termine/mark-kroll-cembalo-894389/
DTSTART;TZID=Europe/Berlin:20260618T223000
DTEND;TZID=Europe/Berlin:20260619T003000
DESCRIPTION:Interpreten: Mark Kroll (Cembalo) \nProgramm: Couperin: Rondeau B-Dur\, Sixième Ordre aus „Pièces de clavecin - Livre 2“ & Troisième Ordre aus „Pièces de clavecin - Livre 1“\, J. S. Bach: Französische Suite Nr. 3 h-Moll BWV 814.2 \nhttps://www.concerti.de/termine/mark-kroll-cembalo-894389/
LOCATION:Altes Rathaus\, Leipzig
END:VEVENT
END:VCALENDAR