BEGIN:VCALENDAR
VERSION:2.0
PRODID:concerti//https://www.concerti.de
CALSCALE:GREGORIAN
BEGIN:VTIMEZONE
TZID:Europe/Berlin
X-LIC-LOCATION:Europe/Berlin
BEGIN:DAYLIGHT
TZOFFSETFROM:+0100
TZOFFSETTO:+0200
TZNAME:CEST
DTSTART:19700329T020000
RRULE:FREQ=YEARLY;BYMONTH=3;BYDAY=-1SU
END:DAYLIGHT
BEGIN:STANDARD
TZOFFSETFROM:+0200
TZOFFSETTO:+0100
TZNAME:CET
DTSTART:19701025T030000
RRULE:FREQ=YEARLY;BYMONTH=10;BYDAY=-1SU
END:STANDARD
END:VTIMEZONE
BEGIN:VEVENT
UID:eb60dfc7c186dbb6461e4583f20b530f
SUMMARY:Julia Sophie Wagner (Sopran), Ralf Mielke (Flöte), Tobias Hasselt (Posaune), Dorothea Hemken (Viola), Steffen Schleiermacher (Klavier &#038; Moderation) - Bachfest Leipzig
URL:https://www.concerti.de/termine/julia-sophie-wagner-sopran-ralf-mielke-floete-tobias-hasselt-posaune-dorothea-hemken-viola-steffen-schleiermacher-klavier-moderation-894334/
DTSTART;TZID=Europe/Berlin:20260615T200000
DTEND;TZID=Europe/Berlin:20260615T220000
DESCRIPTION:Interpreten: Julia Sophie Wagner (Sopran)\, Ralf Mielke (Flöte)\, Tobias Hasselt (Posaune)\, Dorothea Hemken (Viola)\, Steffen Schleiermacher (Klavier & Moderation) \nProgramm: Werke von Mahler & Ives \nhttps://www.concerti.de/termine/julia-sophie-wagner-sopran-ralf-mielke-floete-tobias-hasselt-posaune-dorothea-hemken-viola-steffen-schleiermacher-klavier-moderation-894334/
LOCATION:Grassi Museum für Angewandte Kunst\, Leipzig
END:VEVENT
END:VCALENDAR