BEGIN:VCALENDAR
VERSION:2.0
PRODID:concerti//https://www.concerti.de
CALSCALE:GREGORIAN
BEGIN:VTIMEZONE
TZID:Europe/Berlin
X-LIC-LOCATION:Europe/Berlin
BEGIN:DAYLIGHT
TZOFFSETFROM:+0100
TZOFFSETTO:+0200
TZNAME:CEST
DTSTART:19700329T020000
RRULE:FREQ=YEARLY;BYMONTH=3;BYDAY=-1SU
END:DAYLIGHT
BEGIN:STANDARD
TZOFFSETFROM:+0200
TZOFFSETTO:+0100
TZNAME:CET
DTSTART:19701025T030000
RRULE:FREQ=YEARLY;BYMONTH=10;BYDAY=-1SU
END:STANDARD
END:VTIMEZONE
BEGIN:VEVENT
UID:8eabef738c7c4eb3db8ec4159721a6a5
SUMMARY:Johannes Lang (Orgel), Ensemble Luminosa, Schülerinnen und Schüler der Grundschule forum thomanum, Matthias Schubotz (Leitung) - Bachfest Leipzig
URL:https://www.concerti.de/termine/johannes-lang-orgel-ensemble-luminosa-schuelerinnen-und-schueler-der-grundschule-forum-thomanum-matthias-schubotz-leitung-894309/
DTSTART;TZID=Europe/Berlin:20260615T093000
DTEND;TZID=Europe/Berlin:20260615T113000
DESCRIPTION:Interpreten: Johannes Lang (Orgel)\, Ensemble Luminosa\, Schülerinnen und Schüler der Grundschule forum thomanum\, Matthias Schubotz (Leitung)\, Johannes Lang (Orgel) \nProgramm: Hanelt: Jubilate Deo\, Gjeilo: Ubi caritas\, Mendelssohn: Hebe deine Augen auf aus „Elias“ op. 70\, Bährens: Magnificat (Auszüge)\, Caplet: Kyrie & O salutaris\, Enßle: Gloria in excelsis Deo\, Nystedt: Hosanna \nhttps://www.concerti.de/termine/johannes-lang-orgel-ensemble-luminosa-schuelerinnen-und-schueler-der-grundschule-forum-thomanum-matthias-schubotz-leitung-894309/
LOCATION:Lutherkirche\, Leipzig
END:VEVENT
END:VCALENDAR