BEGIN:VCALENDAR
VERSION:2.0
PRODID:concerti//https://www.concerti.de
CALSCALE:GREGORIAN
BEGIN:VTIMEZONE
TZID:Europe/Berlin
X-LIC-LOCATION:Europe/Berlin
BEGIN:DAYLIGHT
TZOFFSETFROM:+0100
TZOFFSETTO:+0200
TZNAME:CEST
DTSTART:19700329T020000
RRULE:FREQ=YEARLY;BYMONTH=3;BYDAY=-1SU
END:DAYLIGHT
BEGIN:STANDARD
TZOFFSETFROM:+0200
TZOFFSETTO:+0100
TZNAME:CET
DTSTART:19701025T030000
RRULE:FREQ=YEARLY;BYMONTH=10;BYDAY=-1SU
END:STANDARD
END:VTIMEZONE
BEGIN:VEVENT
UID:ddf1e7c29342243b3aecc0f0f49bac64
SUMMARY:Miha Zhu (Violine), Jan Čmejla (Klavier), Marek Kozák (Klavier), Mariamna Sherling (Klavier), Mendelssohn Kammerorchester Leipzig - Bachfest Leipzig
URL:https://www.concerti.de/termine/miha-zhu-violine-jan-cmejla-klavier-marek-kozak-klavier-mariamna-sherling-klavier-mendelssohn-kammerorchester-leipzig-gewandhaus-leipzig-894296/
DTSTART;TZID=Europe/Berlin:20260614T170000
DTEND;TZID=Europe/Berlin:20260614T190000
DESCRIPTION:Interpreten: Miha Zhu (Violine)\, Jan Čmejla (Klavier)\, Marek Kozák (Klavier)\, Mariamna Sherling (Klavier)\, Mendelssohn Kammerorchester Leipzig \nProgramm: J. S. Bach: Konzerte d-Moll BWV 1052.2\, c-Moll BWV 1060\, E-Dur BWV 1042 & d-Moll BWV 1063\, Mendelssohn: Konzert d-Moll \nhttps://www.concerti.de/termine/miha-zhu-violine-jan-cmejla-klavier-marek-kozak-klavier-mariamna-sherling-klavier-mendelssohn-kammerorchester-leipzig-gewandhaus-leipzig-894296/
LOCATION:Gewandhaus Leipzig\, Augustusplatz 8\, 04109 Leipzig
END:VEVENT
END:VCALENDAR