BEGIN:VCALENDAR
VERSION:2.0
PRODID:concerti//https://www.concerti.de
CALSCALE:GREGORIAN
BEGIN:VTIMEZONE
TZID:Europe/Berlin
X-LIC-LOCATION:Europe/Berlin
BEGIN:DAYLIGHT
TZOFFSETFROM:+0100
TZOFFSETTO:+0200
TZNAME:CEST
DTSTART:19700329T020000
RRULE:FREQ=YEARLY;BYMONTH=3;BYDAY=-1SU
END:DAYLIGHT
BEGIN:STANDARD
TZOFFSETFROM:+0200
TZOFFSETTO:+0100
TZNAME:CET
DTSTART:19701025T030000
RRULE:FREQ=YEARLY;BYMONTH=10;BYDAY=-1SU
END:STANDARD
END:VTIMEZONE
BEGIN:VEVENT
UID:a0fed2d48c7e425325f42a4e0250ca5b
SUMMARY:Nils Landgren (Posaune), Wolfgang Haffner (Drums), Lars Danielsson (Kontrabass), Michael Wollny (Piano) - Bachfest Leipzig
URL:https://www.concerti.de/termine/nils-landgren-posaune-wolfgang-haffner-drums-lars-danielsson-kontrabass-michael-wollny-piano-894246/
DTSTART;TZID=Europe/Berlin:20260612T210000
DTEND;TZID=Europe/Berlin:20260612T230000
DESCRIPTION:Interpreten: Nils Landgren (Posaune)\, Wolfgang Haffner (Drums)\, Lars Danielsson (Kontrabass)\, Michael Wollny (Piano) \nhttps://www.concerti.de/termine/nils-landgren-posaune-wolfgang-haffner-drums-lars-danielsson-kontrabass-michael-wollny-piano-894246/
LOCATION:Markt\, Leipzig
END:VEVENT
END:VCALENDAR