BEGIN:VCALENDAR
VERSION:2.0
PRODID:concerti//https://www.concerti.de
CALSCALE:GREGORIAN
BEGIN:VTIMEZONE
TZID:Europe/Berlin
X-LIC-LOCATION:Europe/Berlin
BEGIN:DAYLIGHT
TZOFFSETFROM:+0100
TZOFFSETTO:+0200
TZNAME:CEST
DTSTART:19700329T020000
RRULE:FREQ=YEARLY;BYMONTH=3;BYDAY=-1SU
END:DAYLIGHT
BEGIN:STANDARD
TZOFFSETFROM:+0200
TZOFFSETTO:+0100
TZNAME:CET
DTSTART:19701025T030000
RRULE:FREQ=YEARLY;BYMONTH=10;BYDAY=-1SU
END:STANDARD
END:VTIMEZONE
BEGIN:VEVENT
UID:09d0d123bb56da65b73326238e99f189
SUMMARY:Johannes Lang (Orgel), Augsburger Motettenchor, Johannes Eppelein (Leitung) - Bachfest Leipzig: Motette
URL:https://www.concerti.de/termine/johannes-lang-orgel-augsburger-motettenchor-johannes-eppelein-leitung-thomaskirche-leipzig-894237/
DTSTART;TZID=Europe/Berlin:20260612T180000
DTEND;TZID=Europe/Berlin:20260612T200000
DESCRIPTION:Interpreten: Johannes Lang (Orgel)\, Augsburger Motettenchor\, Johannes Eppelein (Leitung) \nProgramm: Ramin: Praeludium\, Largo und Fuge op. 5\, J. L. Bach: Das ist meine Freude\, J. Röntgen: Kommt her zu mir alle\, die ihr mein begehret\, Palestrina: Magnificat primi toni\, Rheinberger: Kyrie aus Cantus missae op. 109\, Nystedt: Peace I leave with you op. 43/2\, J. S. Bach: Bach: Fuge g-Moll BWV 535.3/2 \nhttps://www.concerti.de/termine/johannes-lang-orgel-augsburger-motettenchor-johannes-eppelein-leitung-thomaskirche-leipzig-894237/
LOCATION:Thomaskirche Leipzig\, Thomaskirchhof 18\, 04109 Leipzig
END:VEVENT
END:VCALENDAR