BEGIN:VCALENDAR
VERSION:2.0
PRODID:concerti//https://www.concerti.de
CALSCALE:GREGORIAN
BEGIN:VTIMEZONE
TZID:Europe/Berlin
X-LIC-LOCATION:Europe/Berlin
BEGIN:DAYLIGHT
TZOFFSETFROM:+0100
TZOFFSETTO:+0200
TZNAME:CEST
DTSTART:19700329T020000
RRULE:FREQ=YEARLY;BYMONTH=3;BYDAY=-1SU
END:DAYLIGHT
BEGIN:STANDARD
TZOFFSETFROM:+0200
TZOFFSETTO:+0100
TZNAME:CET
DTSTART:19701025T030000
RRULE:FREQ=YEARLY;BYMONTH=10;BYDAY=-1SU
END:STANDARD
END:VTIMEZONE
BEGIN:VEVENT
UID:677d08209966d1c10cb201127ef3725e
SUMMARY:Masato Suzuki (Orgel) - Musikfest Bremen
URL:https://www.concerti.de/termine/masato-suzuki-orgel-894144/
DTSTART;TZID=Europe/Berlin:20260820T193000
DTEND;TZID=Europe/Berlin:20260820T213000
DESCRIPTION:Interpreten: Masato Suzuki (Orgel) \nProgramm: Sweelinck: Fantasia cromatica SwWV 258\, Böhm: Choralvorspiel zu „Vater unser im Himmelreich“\, Buxtehude: Passacaglia d-Moll BuxWV 161\, Te Deum laudamus BuxWV 218 & Praeludium C-Dur BuxWV 137\, J. S. Bach: Partita „O Gott\, du frommer Gott“ BWV 767 & Passacaglia c-Moll BWV 582 \nhttps://www.concerti.de/termine/masato-suzuki-orgel-894144/
LOCATION:St. Cosmas- und Damian\, Bockhorn
END:VEVENT
END:VCALENDAR