BEGIN:VCALENDAR
VERSION:2.0
PRODID:concerti//https://www.concerti.de
CALSCALE:GREGORIAN
BEGIN:VTIMEZONE
TZID:Europe/Berlin
X-LIC-LOCATION:Europe/Berlin
BEGIN:DAYLIGHT
TZOFFSETFROM:+0100
TZOFFSETTO:+0200
TZNAME:CEST
DTSTART:19700329T020000
RRULE:FREQ=YEARLY;BYMONTH=3;BYDAY=-1SU
END:DAYLIGHT
BEGIN:STANDARD
TZOFFSETFROM:+0200
TZOFFSETTO:+0100
TZNAME:CET
DTSTART:19701025T030000
RRULE:FREQ=YEARLY;BYMONTH=10;BYDAY=-1SU
END:STANDARD
END:VTIMEZONE
BEGIN:VEVENT
UID:b09d6f7b295e109bfb6e1d30f559b1f9
SUMMARY:Quatuor Ebène - Musikfest Bremen: Beethoven-Zyklus
URL:https://www.concerti.de/termine/quatuor-ebene-die-glocke-bremen-894114/
DTSTART;TZID=Europe/Berlin:20260819T193000
DTEND;TZID=Europe/Berlin:20260819T213000
DESCRIPTION:Interpreten: Quatuor Ebène \nProgramm: Beethoven: Streichquartette Nr. 2 G-Dur op. 18/2\, Nr. 16 F-Dur op. 135 & Nr. 14 cis-Moll op. 131 \nhttps://www.concerti.de/termine/quatuor-ebene-die-glocke-bremen-894114/
LOCATION:Die Glocke Bremen\, Domsheide 4\, 28195 Bremen
END:VEVENT
END:VCALENDAR