BEGIN:VCALENDAR
VERSION:2.0
PRODID:concerti//https://www.concerti.de
CALSCALE:GREGORIAN
BEGIN:VTIMEZONE
TZID:Europe/Berlin
X-LIC-LOCATION:Europe/Berlin
BEGIN:DAYLIGHT
TZOFFSETFROM:+0100
TZOFFSETTO:+0200
TZNAME:CEST
DTSTART:19700329T020000
RRULE:FREQ=YEARLY;BYMONTH=3;BYDAY=-1SU
END:DAYLIGHT
BEGIN:STANDARD
TZOFFSETFROM:+0200
TZOFFSETTO:+0100
TZNAME:CET
DTSTART:19701025T030000
RRULE:FREQ=YEARLY;BYMONTH=10;BYDAY=-1SU
END:STANDARD
END:VTIMEZONE
BEGIN:VEVENT
UID:13d106a653b50bc06754ab96e25b72b9
SUMMARY:Orfeo son io - Musikfest Bremen
URL:https://www.concerti.de/termine/orfeo-son-io-die-glocke-bremen-894132/
DTSTART;TZID=Europe/Berlin:20260818T193000
DTEND;TZID=Europe/Berlin:20260818T213000
DESCRIPTION:Interpreten: Céline Scheen (Sopran)\, Rolando Villazón (Tenor)\, L’Arpeggiata\, Christina Pluhar (Theorbe & Leitung) \nProgramm: Werke von Monteverdi\, Rossi\, Gluck\, Gardel\, Bonfá u. a. \nhttps://www.concerti.de/termine/orfeo-son-io-die-glocke-bremen-894132/
LOCATION:Die Glocke Bremen\, Domsheide 4\, 28195 Bremen
END:VEVENT
END:VCALENDAR