BEGIN:VCALENDAR
VERSION:2.0
PRODID:concerti//https://www.concerti.de
CALSCALE:GREGORIAN
BEGIN:VTIMEZONE
TZID:Europe/Berlin
X-LIC-LOCATION:Europe/Berlin
BEGIN:DAYLIGHT
TZOFFSETFROM:+0100
TZOFFSETTO:+0200
TZNAME:CEST
DTSTART:19700329T020000
RRULE:FREQ=YEARLY;BYMONTH=3;BYDAY=-1SU
END:DAYLIGHT
BEGIN:STANDARD
TZOFFSETFROM:+0200
TZOFFSETTO:+0100
TZNAME:CET
DTSTART:19701025T030000
RRULE:FREQ=YEARLY;BYMONTH=10;BYDAY=-1SU
END:STANDARD
END:VTIMEZONE
BEGIN:VEVENT
UID:eb6548a8539d6647a7c747cecca2b614
SUMMARY:Anastasia Kobekina (Violoncello) - Musikfest Bremen
URL:https://www.concerti.de/termine/anastasia-kobekina-violoncello-894129/
DTSTART;TZID=Europe/Berlin:20260818T193000
DTEND;TZID=Europe/Berlin:20260818T213000
DESCRIPTION:Interpreten: Anastasia Kobekina (Violoncello) \nProgramm: Bingen: O frondens virga\, J. S. Bach: Cellosuiten Nr. 1 G-Dur BWV 1007\, Nr. 2 d-Moll BWV 1008 & Nr. 3 C-Dur BWV 1009\, Kobekin: Das Narrenschiff\, Boccherini/Sollima: Fandango\, Werke von Greenwood\, Dessner\, Finnis & Vasks \nhttps://www.concerti.de/termine/anastasia-kobekina-violoncello-894129/
LOCATION:St. Barholomäus Golzwarden\, Brake
END:VEVENT
END:VCALENDAR