BEGIN:VCALENDAR
VERSION:2.0
PRODID:concerti//https://www.concerti.de
CALSCALE:GREGORIAN
BEGIN:VTIMEZONE
TZID:Europe/Berlin
X-LIC-LOCATION:Europe/Berlin
BEGIN:DAYLIGHT
TZOFFSETFROM:+0100
TZOFFSETTO:+0200
TZNAME:CEST
DTSTART:19700329T020000
RRULE:FREQ=YEARLY;BYMONTH=3;BYDAY=-1SU
END:DAYLIGHT
BEGIN:STANDARD
TZOFFSETFROM:+0200
TZOFFSETTO:+0100
TZNAME:CET
DTSTART:19701025T030000
RRULE:FREQ=YEARLY;BYMONTH=10;BYDAY=-1SU
END:STANDARD
END:VTIMEZONE
BEGIN:VEVENT
UID:c71f1eb9f01e3efc6ed7322a737cd1c5
SUMMARY:Alena Baeva (Violine), Kyril Zlotnikov (Violoncello), Vadym Kholodenko (Klavier) - Musikfest Bremen: Eine große Nachtmusik
URL:https://www.concerti.de/termine/alena-baeva-violine-kyril-zlotnikov-violoncello-vadym-kholodenko-klavier-894077/
DTSTART;TZID=Europe/Berlin:20260815T220000
DTEND;TZID=Europe/Berlin:20260816T000000
DESCRIPTION:Interpreten: Alena Baeva (Violine)\, Kyril Zlotnikov (Violoncello)\, Vadym Kholodenko (Klavier) \nProgramm: Mozart: Klaviertrio Nr. 2 G-Dur KV 496\, Schubert: Klaviertrio Nr. 2 Es-Dur D 929 \nhttps://www.concerti.de/termine/alena-baeva-violine-kyril-zlotnikov-violoncello-vadym-kholodenko-klavier-894077/
LOCATION:Rathaus\, Bremen
END:VEVENT
END:VCALENDAR