BEGIN:VCALENDAR
VERSION:2.0
PRODID:concerti//https://www.concerti.de
CALSCALE:GREGORIAN
BEGIN:VTIMEZONE
TZID:Europe/Berlin
X-LIC-LOCATION:Europe/Berlin
BEGIN:DAYLIGHT
TZOFFSETFROM:+0100
TZOFFSETTO:+0200
TZNAME:CEST
DTSTART:19700329T020000
RRULE:FREQ=YEARLY;BYMONTH=3;BYDAY=-1SU
END:DAYLIGHT
BEGIN:STANDARD
TZOFFSETFROM:+0200
TZOFFSETTO:+0100
TZNAME:CET
DTSTART:19701025T030000
RRULE:FREQ=YEARLY;BYMONTH=10;BYDAY=-1SU
END:STANDARD
END:VTIMEZONE
BEGIN:VEVENT
UID:cb571e6f5db89c7cad3fecc252938d74
SUMMARY:Karneval des Glücks - Musikfest Bremen: Eine große Nachtmusik
URL:https://www.concerti.de/termine/karneval-des-gluecks-die-glocke-bremen-894089/
DTSTART;TZID=Europe/Berlin:20260815T203000
DTEND;TZID=Europe/Berlin:20260815T223000
DESCRIPTION:Interpreten: Franziska Hölscher (Violine)\, Marianna Shirinyan (Klavier)\, Katja Riemann (Schauspiel) \nProgramm: Musik aus Saint-Saëns: Der Karneval der Tiere\, Lesung aus Texten von Willemsen \nhttps://www.concerti.de/termine/karneval-des-gluecks-die-glocke-bremen-894089/
LOCATION:Die Glocke Bremen\, Domsheide 4\, 28195 Bremen
END:VEVENT
END:VCALENDAR