BEGIN:VCALENDAR
VERSION:2.0
PRODID:concerti//https://www.concerti.de
CALSCALE:GREGORIAN
BEGIN:VTIMEZONE
TZID:Europe/Berlin
X-LIC-LOCATION:Europe/Berlin
BEGIN:DAYLIGHT
TZOFFSETFROM:+0100
TZOFFSETTO:+0200
TZNAME:CEST
DTSTART:19700329T020000
RRULE:FREQ=YEARLY;BYMONTH=3;BYDAY=-1SU
END:DAYLIGHT
BEGIN:STANDARD
TZOFFSETFROM:+0200
TZOFFSETTO:+0100
TZNAME:CET
DTSTART:19701025T030000
RRULE:FREQ=YEARLY;BYMONTH=10;BYDAY=-1SU
END:STANDARD
END:VTIMEZONE
BEGIN:VEVENT
UID:eb2ee19b5a5323d5d0f95486b6075bf2
SUMMARY:Julia Spinosi (Sopran), Chœur de l’Académie Haendel Hendrix, Ensemble Matheus, Jean-Chirstophe Spinosi (Leitung) - Musikfest Bremen: Eine große Nachtmusik
URL:https://www.concerti.de/termine/julia-spinosi-sopran-choeur-de-lacademie-haendel-hendrix-ensemble-matheus-jean-chirstophe-spinosi-leitung-st-petri-dom-894083/
DTSTART;TZID=Europe/Berlin:20260815T190000
DTEND;TZID=Europe/Berlin:20260815T210000
DESCRIPTION:Interpreten: Julia Spinosi (Sopran)\, Chœur de l’Académie Haendel Hendrix\, Ensemble Matheus\, Jean-Chirstophe Spinosi (Leitung) \nProgramm: Vivaldi: Laudate pueri Dominum c-Moll RV 600 & Gloria D-Dur RV 589 \nhttps://www.concerti.de/termine/julia-spinosi-sopran-choeur-de-lacademie-haendel-hendrix-ensemble-matheus-jean-chirstophe-spinosi-leitung-st-petri-dom-894083/
LOCATION:St. Petri Dom\, Sandstraße 10-12\, 28195 Bremen
END:VEVENT
END:VCALENDAR