BEGIN:VCALENDAR
VERSION:2.0
PRODID:concerti//https://www.concerti.de
CALSCALE:GREGORIAN
BEGIN:VTIMEZONE
TZID:Europe/Berlin
X-LIC-LOCATION:Europe/Berlin
BEGIN:DAYLIGHT
TZOFFSETFROM:+0100
TZOFFSETTO:+0200
TZNAME:CEST
DTSTART:19700329T020000
RRULE:FREQ=YEARLY;BYMONTH=3;BYDAY=-1SU
END:DAYLIGHT
BEGIN:STANDARD
TZOFFSETFROM:+0200
TZOFFSETTO:+0100
TZNAME:CET
DTSTART:19701025T030000
RRULE:FREQ=YEARLY;BYMONTH=10;BYDAY=-1SU
END:STANDARD
END:VTIMEZONE
BEGIN:VEVENT
UID:fee12602674c3bf597480a86e6206a31
SUMMARY:Ensemble La Clementina - Tage Alter Musik Medingen
URL:https://www.concerti.de/termine/ensemble-la-clementina-894048/
DTSTART;TZID=Europe/Berlin:20260621T180000
DTEND;TZID=Europe/Berlin:20260621T200000
DESCRIPTION:Interpreten: Ensemble La Clementina \nProgramm: Werke von Schütz\, Grandi\, Monteverdi u. a. \nhttps://www.concerti.de/termine/ensemble-la-clementina-894048/
LOCATION:Kloster Medingen\, Bad Bevensen
END:VEVENT
END:VCALENDAR