BEGIN:VCALENDAR
VERSION:2.0
PRODID:concerti//https://www.concerti.de
CALSCALE:GREGORIAN
BEGIN:VTIMEZONE
TZID:Europe/Berlin
X-LIC-LOCATION:Europe/Berlin
BEGIN:DAYLIGHT
TZOFFSETFROM:+0100
TZOFFSETTO:+0200
TZNAME:CEST
DTSTART:19700329T020000
RRULE:FREQ=YEARLY;BYMONTH=3;BYDAY=-1SU
END:DAYLIGHT
BEGIN:STANDARD
TZOFFSETFROM:+0200
TZOFFSETTO:+0100
TZNAME:CET
DTSTART:19701025T030000
RRULE:FREQ=YEARLY;BYMONTH=10;BYDAY=-1SU
END:STANDARD
END:VTIMEZONE
BEGIN:VEVENT
UID:d75f819f95ead3f8eec1f95a8e137f5a
SUMMARY:Chaplin: Goldrausch (1925, USA) - Stummfilmkonzert
URL:https://www.concerti.de/termine/chaplin-goldrausch-1925-usa-894022/
DTSTART;TZID=Europe/Berlin:20260613T200000
DTEND;TZID=Europe/Berlin:20260613T220000
DESCRIPTION:Interpreten: Frieder Alexander Egri (Klavier) \nhttps://www.concerti.de/termine/chaplin-goldrausch-1925-usa-894022/
LOCATION:Schloms Hof\, Rotenburg (Wümme)
END:VEVENT
END:VCALENDAR