BEGIN:VCALENDAR
VERSION:2.0
PRODID:concerti//https://www.concerti.de
CALSCALE:GREGORIAN
BEGIN:VTIMEZONE
TZID:Europe/Berlin
X-LIC-LOCATION:Europe/Berlin
BEGIN:DAYLIGHT
TZOFFSETFROM:+0100
TZOFFSETTO:+0200
TZNAME:CEST
DTSTART:19700329T020000
RRULE:FREQ=YEARLY;BYMONTH=3;BYDAY=-1SU
END:DAYLIGHT
BEGIN:STANDARD
TZOFFSETFROM:+0200
TZOFFSETTO:+0100
TZNAME:CET
DTSTART:19701025T030000
RRULE:FREQ=YEARLY;BYMONTH=10;BYDAY=-1SU
END:STANDARD
END:VTIMEZONE
BEGIN:VEVENT
UID:2d6466f9ed25e16a11f9f576137486e3
SUMMARY:Victoria Kunze (Sopran), Mirko Roschkowski (Tenor), Kai Preußker (Bariton), Arevik Khachatryan (Querflöte), Wasilij Rusnak (Violine), Adrian Rusnak (Klavier) - Oper & Operette auf dem Lande!
URL:https://www.concerti.de/termine/victoria-kunze-sopran-mirko-roschkowski-tenor-kai-preussker-bariton-arevik-khachatryan-querfloete-wasilij-rusnak-violine-adrian-rusnak-klavier-894018/
DTSTART;TZID=Europe/Berlin:20260612T183000
DTEND;TZID=Europe/Berlin:20260612T203000
DESCRIPTION:Interpreten: Victoria Kunze (Sopran)\, Mirko Roschkowski (Tenor)\, Kai Preußker (Bariton)\, Arevik Khachatryan (Querflöte)\, Wasilij Rusnak (Violine)\, Adrian Rusnak (Klavier) \nProgramm: Werke von Mozart\, Verdi\, Donizetti\, Lortzing\, Bernstein & Porter \nhttps://www.concerti.de/termine/victoria-kunze-sopran-mirko-roschkowski-tenor-kai-preussker-bariton-arevik-khachatryan-querfloete-wasilij-rusnak-violine-adrian-rusnak-klavier-894018/
LOCATION:Schloms Hof\, Rotenburg (Wümme)
END:VEVENT
END:VCALENDAR