BEGIN:VCALENDAR
VERSION:2.0
PRODID:concerti//https://www.concerti.de
CALSCALE:GREGORIAN
BEGIN:VTIMEZONE
TZID:Europe/Berlin
X-LIC-LOCATION:Europe/Berlin
BEGIN:DAYLIGHT
TZOFFSETFROM:+0100
TZOFFSETTO:+0200
TZNAME:CEST
DTSTART:19700329T020000
RRULE:FREQ=YEARLY;BYMONTH=3;BYDAY=-1SU
END:DAYLIGHT
BEGIN:STANDARD
TZOFFSETFROM:+0200
TZOFFSETTO:+0100
TZNAME:CET
DTSTART:19701025T030000
RRULE:FREQ=YEARLY;BYMONTH=10;BYDAY=-1SU
END:STANDARD
END:VTIMEZONE
BEGIN:VEVENT
UID:81a87ada3248f50b1ceb68f9ae0469a0
SUMMARY:Nicole Dellabona (Alt), Lüneburger Kammerorchester, Motettenchor St. Johannis, Ulf Wellner (Leitung), Marianne Gorka (Predigt) - Musik im Gottesdienst
URL:https://www.concerti.de/termine/nicole-dellabona-alt-lueneburger-kammerorchester-motettenchor-st-johannis-ulf-wellner-leitung-marianne-gorka-predigt-894002/
DTSTART;TZID=Europe/Berlin:20260524T110000
DTEND;TZID=Europe/Berlin:20260524T130000
DESCRIPTION:Interpreten: Nicole Dellabona (Alt)\, Lüneburger Kammerorchester\, Motettenchor St. Johannis\, Ulf Wellner (Leitung)\, Marianne Gorka (Predigt) \nProgramm: J. S. Bach: O ewiges Feuer\, o Ursprung der Liebe BWV 34 \nhttps://www.concerti.de/termine/nicole-dellabona-alt-lueneburger-kammerorchester-motettenchor-st-johannis-ulf-wellner-leitung-marianne-gorka-predigt-894002/
LOCATION:St. Johannis\, Lüneburg
END:VEVENT
END:VCALENDAR