BEGIN:VCALENDAR
VERSION:2.0
PRODID:concerti//https://www.concerti.de
CALSCALE:GREGORIAN
BEGIN:VTIMEZONE
TZID:Europe/Berlin
X-LIC-LOCATION:Europe/Berlin
BEGIN:DAYLIGHT
TZOFFSETFROM:+0100
TZOFFSETTO:+0200
TZNAME:CEST
DTSTART:19700329T020000
RRULE:FREQ=YEARLY;BYMONTH=3;BYDAY=-1SU
END:DAYLIGHT
BEGIN:STANDARD
TZOFFSETFROM:+0200
TZOFFSETTO:+0100
TZNAME:CET
DTSTART:19701025T030000
RRULE:FREQ=YEARLY;BYMONTH=10;BYDAY=-1SU
END:STANDARD
END:VTIMEZONE
BEGIN:VEVENT
UID:ad4969773aa7f683a9c3804f0e8db09a
SUMMARY:Jubiläumskonzert
20 Jahre Schulmusikorchester der HfMT
URL:https://www.concerti.de/termine/jubilaeumskonzert20-jahre-schulmusikorchester-der-hfmt-hochschule-fuer-musik-und-theater-hamburg-893852/
DTSTART;TZID=Europe/Berlin:20260627T190000
DTEND;TZID=Europe/Berlin:20260627T210000
DESCRIPTION:Interpreten: Schulmusikorchester der HfMT Hamburg \nProgramm: Elgar: Enigma-Variationen\, Grieg: Schauspielmusik aus „Peer Gynt“ \nhttps://www.concerti.de/termine/jubilaeumskonzert20-jahre-schulmusikorchester-der-hfmt-hochschule-fuer-musik-und-theater-hamburg-893852/
LOCATION:Hochschule für Musik und Theater Hamburg\, Harvestehuder Weg 12\, 20148 Hamburg
END:VEVENT
END:VCALENDAR