BEGIN:VCALENDAR
VERSION:2.0
PRODID:concerti//https://www.concerti.de
CALSCALE:GREGORIAN
BEGIN:VTIMEZONE
TZID:Europe/Berlin
X-LIC-LOCATION:Europe/Berlin
BEGIN:DAYLIGHT
TZOFFSETFROM:+0100
TZOFFSETTO:+0200
TZNAME:CEST
DTSTART:19700329T020000
RRULE:FREQ=YEARLY;BYMONTH=3;BYDAY=-1SU
END:DAYLIGHT
BEGIN:STANDARD
TZOFFSETFROM:+0200
TZOFFSETTO:+0100
TZNAME:CET
DTSTART:19701025T030000
RRULE:FREQ=YEARLY;BYMONTH=10;BYDAY=-1SU
END:STANDARD
END:VTIMEZONE
BEGIN:VEVENT
UID:72757383334ef72677bb608b3d577aa1
SUMMARY:Loewe: My Fair Lady
URL:https://www.concerti.de/termine/loewe-my-fair-lady-theater-stralsund-460296/
DTSTART;TZID=Europe/Berlin:20260626T193000
DTEND;TZID=Europe/Berlin:20260626T213000
DESCRIPTION:Interpreten: Franziska Ringe/Karina Kettenis (Eliza Doolittle)\, Felix Meusel (Henry Higgins)\, Bernd Roth (Oberst Pickering)\, Thomas Rettensteiner (Alfred P. Doolittle)\, Alexander Mayer (Leitung)\, Wolfgang Berthold (Regie) \nhttps://www.concerti.de/termine/loewe-my-fair-lady-theater-stralsund-460296/
LOCATION:Theater Stralsund\, Olof-Palme-Platz 6\, 18439 Stralsund
END:VEVENT
END:VCALENDAR