BEGIN:VCALENDAR
VERSION:2.0
PRODID:concerti//https://www.concerti.de
CALSCALE:GREGORIAN
BEGIN:VTIMEZONE
TZID:Europe/Berlin
X-LIC-LOCATION:Europe/Berlin
BEGIN:DAYLIGHT
TZOFFSETFROM:+0100
TZOFFSETTO:+0200
TZNAME:CEST
DTSTART:19700329T020000
RRULE:FREQ=YEARLY;BYMONTH=3;BYDAY=-1SU
END:DAYLIGHT
BEGIN:STANDARD
TZOFFSETFROM:+0200
TZOFFSETTO:+0100
TZNAME:CET
DTSTART:19701025T030000
RRULE:FREQ=YEARLY;BYMONTH=10;BYDAY=-1SU
END:STANDARD
END:VTIMEZONE
BEGIN:VEVENT
UID:9c6727b373c1878bcd5b03222b02ab15
SUMMARY:Dvořák: Cellokonzert h-Moll op. 104
URL:https://www.concerti.de/termine/dvorak-cellokonzert-h-moll-op-104-theater-stralsund-893822/
DTSTART;TZID=Europe/Berlin:20260621T160000
DTEND;TZID=Europe/Berlin:20260621T180000
DESCRIPTION:Interpreten: Solist Tobija Haders (Violoncello)\, Philharmonisches Orchester Vorpommern\, Egbert Funk (Leitung) \nhttps://www.concerti.de/termine/dvorak-cellokonzert-h-moll-op-104-theater-stralsund-893822/
LOCATION:Theater Putbus\, Markt 13\, 18581 Putbus
END:VEVENT
END:VCALENDAR