BEGIN:VCALENDAR
VERSION:2.0
PRODID:concerti//https://www.concerti.de
CALSCALE:GREGORIAN
BEGIN:VTIMEZONE
TZID:Europe/Berlin
X-LIC-LOCATION:Europe/Berlin
BEGIN:DAYLIGHT
TZOFFSETFROM:+0100
TZOFFSETTO:+0200
TZNAME:CEST
DTSTART:19700329T020000
RRULE:FREQ=YEARLY;BYMONTH=3;BYDAY=-1SU
END:DAYLIGHT
BEGIN:STANDARD
TZOFFSETFROM:+0200
TZOFFSETTO:+0100
TZNAME:CET
DTSTART:19701025T030000
RRULE:FREQ=YEARLY;BYMONTH=10;BYDAY=-1SU
END:STANDARD
END:VTIMEZONE
BEGIN:VEVENT
UID:578d18c9a2f7ac2cae6d57eb3206636c
SUMMARY:César Lerner (accordeon, piano &amp; drums), Marcelo Moguilevsky (clarinet, flute &amp; vocals) - HanseShtetl
URL:https://www.concerti.de/termine/cesar-lerner-accordeon-piano-drums-marcelo-moguilevsky-clarinet-flute-vocals-tonali-saal-893818/
DTSTART;TZID=Europe/Berlin:20260620T193000
DTEND;TZID=Europe/Berlin:20260620T213000
DESCRIPTION:Interpreten: César Lerner (accordeon\, piano & drums)\, Marcelo Moguilevsky (clarinet\, flute & vocals) \nhttps://www.concerti.de/termine/cesar-lerner-accordeon-piano-drums-marcelo-moguilevsky-clarinet-flute-vocals-tonali-saal-893818/
LOCATION:TONALi SAAL\, Kleiner Kielort 3 - 5\, 20144 Hamburg
END:VEVENT
END:VCALENDAR