BEGIN:VCALENDAR
VERSION:2.0
PRODID:concerti//https://www.concerti.de
CALSCALE:GREGORIAN
BEGIN:VTIMEZONE
TZID:Europe/Berlin
X-LIC-LOCATION:Europe/Berlin
BEGIN:DAYLIGHT
TZOFFSETFROM:+0100
TZOFFSETTO:+0200
TZNAME:CEST
DTSTART:19700329T020000
RRULE:FREQ=YEARLY;BYMONTH=3;BYDAY=-1SU
END:DAYLIGHT
BEGIN:STANDARD
TZOFFSETFROM:+0200
TZOFFSETTO:+0100
TZNAME:CET
DTSTART:19701025T030000
RRULE:FREQ=YEARLY;BYMONTH=10;BYDAY=-1SU
END:STANDARD
END:VTIMEZONE
BEGIN:VEVENT
UID:df622973dcdb4a7e6df3a7f3ed8b3a37
SUMMARY:Vier Jahrzehnte im Einklang: 40 Jahre Städtepartnerschaft Shanghai – Hamburg
URL:https://www.concerti.de/termine/vier-jahrzehnte-im-einklang-40-jahre-staedtepartnerschaft-shanghai-hamburg-laeiszhalle-893815/
DTSTART;TZID=Europe/Berlin:20260619T190000
DTEND;TZID=Europe/Berlin:20260619T210000
DESCRIPTION:Interpreten: Changyong Liao (Bariton)\, Zhang Aozhe (Violine)\, Soloists Chamber Ensemble \nProgramm: Mahler: Lieder eines fahrenden Gesellen u. a. \nhttps://www.concerti.de/termine/vier-jahrzehnte-im-einklang-40-jahre-staedtepartnerschaft-shanghai-hamburg-laeiszhalle-893815/
LOCATION:Laeiszhalle\, Johannes-Brahms-Platz\, 20355 Hamburg
END:VEVENT
END:VCALENDAR