BEGIN:VCALENDAR
VERSION:2.0
PRODID:concerti//https://www.concerti.de
CALSCALE:GREGORIAN
BEGIN:VTIMEZONE
TZID:Europe/Berlin
X-LIC-LOCATION:Europe/Berlin
BEGIN:DAYLIGHT
TZOFFSETFROM:+0100
TZOFFSETTO:+0200
TZNAME:CEST
DTSTART:19700329T020000
RRULE:FREQ=YEARLY;BYMONTH=3;BYDAY=-1SU
END:DAYLIGHT
BEGIN:STANDARD
TZOFFSETFROM:+0200
TZOFFSETTO:+0100
TZNAME:CET
DTSTART:19701025T030000
RRULE:FREQ=YEARLY;BYMONTH=10;BYDAY=-1SU
END:STANDARD
END:VTIMEZONE
BEGIN:VEVENT
UID:cd98b0e5831eb87f92a19f7d178af188
SUMMARY:Tuning Rituals: Bohlen-Pierce-Skala - blurred edges – Festival für aktuelle Musik Hamburg
URL:https://www.concerti.de/termine/tuning-rituals-bohlen-pierce-skala-tonali-saal-893760/
DTSTART;TZID=Europe/Berlin:20260607T200000
DTEND;TZID=Europe/Berlin:20260607T220000
DESCRIPTION:Interpreten: Elena Khurgina (Cembalo)\, Martin Kather (Cembalo)\, \, Todd Harrop (Schlagwerk)\, Yuri Akbalkan (Elektronik)\, Nora Ebneth (Moderation) \nProgramm: Akbalkan: Prooemium praeter rem\, Harrop: Präludien (UA)\, Fu: Truth::shift (UA)\, Lilienstern: On the spectrum (UA)\, Pham: Between Bar and Bell (UA) \nhttps://www.concerti.de/termine/tuning-rituals-bohlen-pierce-skala-tonali-saal-893760/
LOCATION:TONALi SAAL\, Kleiner Kielort 3 - 5\, 20144 Hamburg
END:VEVENT
END:VCALENDAR