BEGIN:VCALENDAR
VERSION:2.0
PRODID:concerti//https://www.concerti.de
CALSCALE:GREGORIAN
BEGIN:VTIMEZONE
TZID:Europe/Berlin
X-LIC-LOCATION:Europe/Berlin
BEGIN:DAYLIGHT
TZOFFSETFROM:+0100
TZOFFSETTO:+0200
TZNAME:CEST
DTSTART:19700329T020000
RRULE:FREQ=YEARLY;BYMONTH=3;BYDAY=-1SU
END:DAYLIGHT
BEGIN:STANDARD
TZOFFSETFROM:+0200
TZOFFSETTO:+0100
TZNAME:CET
DTSTART:19701025T030000
RRULE:FREQ=YEARLY;BYMONTH=10;BYDAY=-1SU
END:STANDARD
END:VTIMEZONE
BEGIN:VEVENT
UID:ee806de10ed064a0e7a85c8eb05e1c5b
SUMMARY:Ensemble United Berlin - Intersonanzen – Brandenburgisches Fest der Neuen Musik: Abschlusskonzert
URL:https://www.concerti.de/termine/ensemble-united-berlin-893714/
DTSTART;TZID=Europe/Berlin:20260607T190000
DTEND;TZID=Europe/Berlin:20260607T210000
DESCRIPTION:Interpreten: Ensemble United Berlin \nProgramm: Staffel: Luftveränderungen\, Senk: Rezitativo et Allegro\, Stelzenbach: Ein Schiff in der Wüste (UA)\, Iranyi: Fünf Studien zu Bildern von Paul Klee\, Zapf: Zusammenklang III\, Rotaru: Chrystals for flute and piano \nhttps://www.concerti.de/termine/ensemble-united-berlin-893714/
LOCATION:Waschhaus\, Potsdam
END:VEVENT
END:VCALENDAR